BEGIN:VCALENDAR
VERSION:2.0
METHOD:PUBLISH
X-WR-CALNAME:VFEK |  május 29 2010- május 29 2010
PRODID:-//strange bird labs//Drupal iCal API//EN
BEGIN:VEVENT
DTSTAMP;VALUE=DATE-TIME:20260420T101820Z
DTSTART;VALUE=DATE-TIME:20100507T160000Z
DTEND;VALUE=DATE-TIME:20100529T120000Z
UID:http://portal.vfmk.hu/0111_20100504_2
URL;VALUE=URI:http://portal.vfmk.hu/0111_20100504_2
SUMMARY:Kiállítás - Kamilla Foltvarró Kör
DESCRIPTION:<p class=\\"rtecenter\\"><span style=\\"font-size\: small\; \\"><span style=\\"font-family\: Verdana\; \\">&nbsp\;A Verseghy Ferenc Megyei K&ouml\;nyvt&aacute\;r &eacute\;s Művelőd&eacute\;si Int&eacute\;zet<br />
 szeretettel megh&iacute\;vja &Ouml\;nt a</span></span></p>
 <p class=\\"rtecenter\\"><strong><span style=\\"font-size\: medium\; \\"><span style=\\"font-family\: Verdana\; \\">KAMILLA FOLTVARR&Oacute\; K&Ouml\;R</span></span></strong></p>
 <p class=\\"rtecenter\\"><span style=\\"font-size\: small\; \\"><span style=\\"font-family\: Verdana\; \\">tagjainak munk&aacute\;ib&oacute\;l rendezett ki&aacute\;ll&iacute\;t&aacute\;s<br />
 megnyit&oacute\;j&aacute\;ra</span></span></p>
 <p class=\\"rtecenter\\"><span style=\\"font-size\: small\; \\"><span style=\\"font-family\: Verdana\; \\">2010. m&aacute\;jus 7-&eacute\;n 17.00 &oacute\;r&aacute\;ra<br />
 a Műv&eacute\;szeti Szalonba<br />
 (Szolnok\, Kossuth t&eacute\;r 2.)</span></span></p>
 <p class=\\"rtejustify\\"><span style=\\"font-size\: small\; \\"><span style=\\"font-family\: Verdana\; \\">A ki&aacute\;ll&iacute\;t&aacute\;st megnyitja\: <strong>L&aacute\;szl&oacute\;n&eacute\; Nagy Ilona</strong>\, a Hild Viktor V&aacute\;rosi K&ouml\;nyvt&aacute\;r &eacute\;s K&ouml\;zművelőd&eacute\;si Int&eacute\;zm&eacute\;ny igazgat&oacute\;ja.<br />
 A t&aacute\;rlat m&aacute\;jus 30-ig tekinthető meg a k&ouml\;nyvt&aacute\;r nyitvatart&aacute\;si idej&eacute\;ben.</span></span></p>
END:VEVENT
END:VCALENDAR
